BEGIN:VCALENDAR
VERSION:2.0
PRODID:-//ExpressionEngine Easy iCalendar plugin//NONSGML v1.1.1//EN
BEGIN:VEVENT
UID:event
LOCATION:Schermerhorn Hall\, Room 501
DTSTAMP:20210221T35300Z
DTSTART;TZID=America/New_York:20070426T200000
DTEND;TZID=America/New_York:
SUMMARY:The Origins of Norms: The Place of Value in a World of Natur
 e
DESCRIPTION:Gerald Edelman\, Nobel Prize winning scientist\, and Lorraine 
 Daston\, Director of the Max Planck Institute for the History
  of Science in Berlin\, Germany will discuss together\, "The O
 rigins of Norms: The Place of Value in a World of Nature\," a
 s part of a three day conference jointly sponsored with The 
 Philoctetes Center.
END:VEVENT
END:VCALENDAR