BEGIN:VCALENDAR
VERSION:2.0
PRODID:-//ExpressionEngine Easy iCalendar plugin//NONSGML v1.1.1//EN
BEGIN:VEVENT
UID:event
LOCATION:International Affairs Building\, Dag Hammaskjold Room
DTSTAMP:20210221T35200Z
DTSTART;TZID=America/New_York:20060218T93000
DTEND;TZID=America/New_York:20060218T180000
SUMMARY:A Singular Modernity?
DESCRIPTION:Discussing the theory of Modernity outside the West\, speaker
 s will include Arjun Appadurai\, Partha Chatterjee\, Sudipta K
 aviraj\, Steven Lukes\, Sheldon Pollock\, Sanjay Subrahmanyam\, 
 and David Washbrook.
END:VEVENT
END:VCALENDAR