BEGIN:VCALENDAR
VERSION:2.0
PRODID:-//ExpressionEngine Easy iCalendar plugin//NONSGML v1.1.1//EN
BEGIN:VEVENT
UID:event
LOCATION:Northwest Corner Building\, Room 501
DTSTAMP:20210221T33800Z
DTSTART;TZID=America/New_York:20130916T191500
DTEND;TZID=America/New_York:
SUMMARY:Ai Weiwei: Never Sorry
DESCRIPTION:Ai Weiwei is China's most famous international artist and it
 s most outspoken domestic critic. Against a backdrop of stri
 ct censorship and an unresponsive legal system\, Ai expresses
  himself and organizes people through art and social media. 
 In response\, Chinese authorities have shut down his blog\, be
 at him up\, bulldozed his newly built studio\, and held him in
  secret detention. \n\n 
END:VEVENT
END:VCALENDAR