BEGIN:VCALENDAR
VERSION:2.0
PRODID:-//ExpressionEngine Easy iCalendar plugin//NONSGML v1.1.1//EN
BEGIN:VEVENT
UID:event
LOCATION:The Heyman Center\, Second Floor Common Room
DTSTAMP:20210221T33900Z
DTSTART;TZID=America/New_York:20130930T181500
DTEND;TZID=America/New_York:
SUMMARY:Exploding Socialism: East German Society Facing Industrial D
 isasters
DESCRIPTION:Professor Lindenberger will talk about East German term "hav
 arien" that serves to illuminate history of Cold War East Ge
 rmany as an incessant sequel of technological and human disa
 sters. "Havarien" is a frequent key word in finding aids of 
 the communist archives of East Germany\, whether they come fr
 om the infamous Stasi (the secret police)\, the communist par
 ty\, or the official trade union. 
END:VEVENT
END:VCALENDAR