BEGIN:VCALENDAR
VERSION:2.0
PRODID:-//ExpressionEngine Easy iCalendar plugin//NONSGML v1.1.1//EN
BEGIN:VEVENT
UID:event
LOCATION:Wood Auditorium\, Avery Hall
DTSTAMP:20210221T33600Z
DTSTART;TZID=America/New_York:20130917T183000
DTEND;TZID=America/New_York:
SUMMARY:The Global Landscape of Mira Nair
DESCRIPTION:Women Creating Change\, a global initiative of the Center for
  the Study of Social Difference\, presents director\, writer\,
  and producer Mira Nair (Salaam Bombay\, Monsoon Wedding\, The
  Namesake\, and The Reluctant Fundamentalist) in conversation
  with Mabel Wilson (Columbia Graduate School of Architecture
 \, Planning\, and Preservation) and Anupama Rao (Barnard Depar
 tment of History). Lila Abu-Lughod\, Director of the Center f
 or the Study of Social Difference\, will moderate.
END:VEVENT
END:VCALENDAR