BEGIN:VCALENDAR
VERSION:2.0
PRODID:-//ExpressionEngine Easy iCalendar plugin//NONSGML v1.1.1//EN
BEGIN:VEVENT
UID:event
LOCATION:Roone Arledge Cinema\, Lerner Hall
DTSTAMP:20210221T33600Z
DTSTART;TZID=America/New_York:20130923T190000
DTEND;TZID=America/New_York:
SUMMARY:Remembering Edward Said
DESCRIPTION:On the tenth anniversary of the passing of Professor Edward 
 Said\, Columbia University hosts an event to reflect on his l
 egacy with four speakers and film screenings
END:VEVENT
END:VCALENDAR