BEGIN:VCALENDAR
VERSION:2.0
PRODID:-//ExpressionEngine Easy iCalendar plugin//NONSGML v1.1.1//EN
BEGIN:VEVENT
UID:event
LOCATION:The Schapiro Center\, Davis Auditorium
DTSTAMP:20210221T33500Z
DTSTART;TZID=America/New_York:20130924T160000
DTEND;TZID=America/New_York:
SUMMARY:Common Threads
DESCRIPTION:For the Embodiments of Science lecture series\, the Institute
  for Research on Women and Gender and the Heyman Center for 
 the Humanities present a talk by Professor Evelyn Fox Keller
 \, Professor of the History and Philosophy of Science\, Emerit
 a at Massachusetts Institute of Technology.
END:VEVENT
END:VCALENDAR