BEGIN:VCALENDAR
VERSION:2.0
PRODID:-//ExpressionEngine Easy iCalendar plugin//NONSGML v1.1.1//EN
BEGIN:VEVENT
UID:event
LOCATION:International Affairs Building\, Room 918
DTSTAMP:20210221T33100Z
DTSTART;TZID=America/New_York:20130927T120000
DTEND;TZID=America/New_York:
SUMMARY:Appropriate Distance: Filming and Screening Atrocities from 
 WWII to Nuremberg
DESCRIPTION:Christian Delage\, historian and filmmaker\, will discuss film
  recordings of WWII and Nazi concentration camps and the scr
 eening of those recordings.
END:VEVENT
END:VCALENDAR