BEGIN:VCALENDAR
VERSION:2.0
PRODID:-//ExpressionEngine Easy iCalendar plugin//NONSGML v1.1.1//EN
BEGIN:VEVENT
UID:event
LOCATION:The Italian Academy for Advanced Studies
DTSTAMP:20210221T33800Z
DTSTART;TZID=America/New_York:20131017T181500
DTEND;TZID=America/New_York:
SUMMARY:Is There a Language of Peace? Palestine Today and the Catego
 rization of Domination
DESCRIPTION:Raja Shehadeh’s lecture on the 10th anniversary of Edward 
 Said’s death will reflect on the cages of categorization t
 hat imprison Palestinians in contemporary Palestine perhaps 
 more than even the physical matrix of borders\, checkpoints\, 
 and the Wall.
END:VEVENT
END:VCALENDAR