BEGIN:VCALENDAR
VERSION:2.0
PRODID:-//ExpressionEngine Easy iCalendar plugin//NONSGML v1.1.1//EN
BEGIN:VEVENT
UID:event
LOCATION:The Schapiro Center\, Davis Auditorium
DTSTAMP:20210221T32800Z
DTSTART;TZID=America/New_York:20131002T173000
DTEND;TZID=America/New_York:20131003T000000
SUMMARY:Greek Cinema: Beyond the Crisis
DESCRIPTION:The Heyman Center for Humanities and the center for Hellenic
  Studies at Columbia presents two evenings of film screening
 s and discussion with Greek filmmakers\, Constantine Giannar
 is and Eva Stefani.  \n\n 
END:VEVENT
END:VCALENDAR