BEGIN:VCALENDAR
VERSION:2.0
PRODID:-//ExpressionEngine Easy iCalendar plugin//NONSGML v1.1.1//EN
BEGIN:VEVENT
UID:event
LOCATION:The Heyman Center\, Second Floor Common Room
DTSTAMP:20210221T33200Z
DTSTART;TZID=America/New_York:20131003T181500
DTEND;TZID=America/New_York:
SUMMARY:Greek Cinema: Beyond the Crisis
DESCRIPTION:The Heyman Center for Humanities and the center for Hellenic
  Studies at Columbia presents two evenings of film screening
 s and discussion with Greek filmmakers\, Constantine Giannari
 s and Eva Stefani.
END:VEVENT
END:VCALENDAR