BEGIN:VCALENDAR
VERSION:2.0
PRODID:-//ExpressionEngine Easy iCalendar plugin//NONSGML v1.1.1//EN
BEGIN:VEVENT
UID:event
LOCATION:The Heyman Center\, Lobby and Board Room
DTSTAMP:20210221T33800Z
DTSTART;TZID=America/New_York:20130925T181500
DTEND;TZID=America/New_York:20131022T000000
SUMMARY:Art Exhibition: The Sheltering Word
DESCRIPTION:The Sheltering Word represents an artist’s quest to explor
 e the healing and protective power of the written word as a 
 specific cultural idiom and takes the form of a dialogue bet
 ween Greek and North African cultures.
END:VEVENT
END:VCALENDAR