BEGIN:VCALENDAR
VERSION:2.0
PRODID:-//ExpressionEngine Easy iCalendar plugin//NONSGML v1.1.1//EN
BEGIN:VEVENT
UID:event
LOCATION:The Heyman Center\, Second Floor Common Room
DTSTAMP:20210221T33700Z
DTSTART;TZID=America/New_York:20130923T160000
DTEND;TZID=America/New_York:
SUMMARY:Moral Interventionism: The Gas Question & Syria
DESCRIPTION:Evidence of chemical weapons use in Syria\, and the following
  push for humanitarian intervention\, raise questions about t
 he practicality and legitimacy of military intervention on m
 oral grounds.
END:VEVENT
END:VCALENDAR