BEGIN:VCALENDAR
VERSION:2.0
PRODID:-//ExpressionEngine Easy iCalendar plugin//NONSGML v1.1.1//EN
BEGIN:VEVENT
UID:event
LOCATION:The Heyman Center\, Second Floor Common Room
DTSTAMP:20210221T32800Z
DTSTART;TZID=America/New_York:20131007T181500
DTEND;TZID=America/New_York:
SUMMARY:“The Road Not Taken”: From the Three Worlds of Developme
 nt to the Global Social Question
DESCRIPTION:What can the historical and intellectual geography of post-W
 ar development thinking teach us about the realities of glob
 al inequality today? Are there alternatives to the standard 
 approaches of left and right in formulating a post-2015 deve
 lopment agenda: one fit for a world of emerging powers and p
 ersistent poverty?
END:VEVENT
END:VCALENDAR