BEGIN:VCALENDAR
VERSION:2.0
PRODID:-//ExpressionEngine Easy iCalendar plugin//NONSGML v1.1.1//EN
BEGIN:VEVENT
UID:event
LOCATION:Lerner Hall Party Space
DTSTAMP:20210221T33800Z
DTSTART;TZID=America/New_York:20130928T190000
DTEND;TZID=America/New_York:
SUMMARY:The Beautiful\, Rowdy Prisoners
DESCRIPTION:Asian American Alliance and Club Zamana present\n\n"The Beauti
 ful\, Rowdy Prisoners"\n\na Hip-Hop Set by\n\nChee Malabar
END:VEVENT
END:VCALENDAR