BEGIN:VCALENDAR
VERSION:2.0
PRODID:-//ExpressionEngine Easy iCalendar plugin//NONSGML v1.1.1//EN
BEGIN:VEVENT
UID:event
LOCATION:The Heyman Center\, Second Floor Common Room
DTSTAMP:20210221T33500Z
DTSTART;TZID=America/New_York:20131008T120000
DTEND;TZID=America/New_York:
SUMMARY:A Little Formalism
DESCRIPTION:This talk is a prolegomena to Macpherson's new book project\,
  The Shape of Form\, and asks: what do literary historians me
 an by "form"?
END:VEVENT
END:VCALENDAR