BEGIN:VCALENDAR
VERSION:2.0
PRODID:-//ExpressionEngine Easy iCalendar plugin//NONSGML v1.1.1//EN
BEGIN:VEVENT
UID:event
LOCATION:International Affairs Building\, Room 1501
DTSTAMP:20210221T32900Z
DTSTART;TZID=America/New_York:20131008T180000
DTEND;TZID=America/New_York:
SUMMARY:Big Data/Global Surveillance
DESCRIPTION:This panel is part of the CGT's Urgent Issues series explori
 ng critical issues of global importance from a trans-regiona
 l and interdisciplinary perspective. It will examine the tec
 hnical and global implications of the expanded surveillance 
 capacity of states and the expanded capacity of people to co
 ntest.
END:VEVENT
END:VCALENDAR