BEGIN:VCALENDAR
VERSION:2.0
PRODID:-//ExpressionEngine Easy iCalendar plugin//NONSGML v1.1.1//EN
BEGIN:VEVENT
UID:event
LOCATION:\, East Gallery\, Buell Hall
DTSTAMP:20210221T33100Z
DTSTART;TZID=America/New_York:20131028T181500
DTEND;TZID=America/New_York:
SUMMARY:Mark Mazower in a Conversation with Will Self
DESCRIPTION:Will Self\, author of many outstanding novels\, including most
  recently\, Umbrella (Grove Press\, 2013) will appear in conve
 rsation with historian and Director of the Heyman Center for
  the Humanities\, Mark Mazower.
END:VEVENT
END:VCALENDAR