BEGIN:VCALENDAR
VERSION:2.0
PRODID:-//ExpressionEngine Easy iCalendar plugin//NONSGML v1.1.1//EN
BEGIN:VEVENT
UID:event
LOCATION:The Heyman Center\, Second Floor Common Room
DTSTAMP:20210221T33100Z
DTSTART;TZID=America/New_York:20131009T191500
DTEND;TZID=America/New_York:
SUMMARY:European Intellectuals and the Economic Crisis
DESCRIPTION:We might have expected the severity of the crisis in Europe 
 that opened in 2008 and intensified following fears of a Gre
 ek default in 2010 to have elicited a vibrant pan-European d
 ebate\, with intellectuals playing an active role. In fact th
 e circulation of ideas has been limited and intellectuals ha
 ve not had much impact or succeeded in opening up new perspe
 ctives for the continent.
END:VEVENT
END:VCALENDAR