BEGIN:VCALENDAR
VERSION:2.0
PRODID:-//ExpressionEngine Easy iCalendar plugin//NONSGML v1.1.1//EN
BEGIN:VEVENT
UID:event
LOCATION:The Heyman Center\, Second Floor Common Room
DTSTAMP:20210221T33400Z
DTSTART;TZID=America/New_York:20131018T90000
DTEND;TZID=America/New_York:20131019T000000
SUMMARY:Travel\, Science\, and the Question of Observation: 1580-1800
DESCRIPTION:In the early modern period\, the emergence of travel as a mea
 ns of information gathering on natural history\, demography\, 
 government\, and religion was accompanied by the use of quest
 ionnaires to orient observation. This conference investigate
 s the development of techniques of information gathering of 
 this kind and the networks on which they relied. Papers addr
 ess the integral role of travel in the process of scientific
  exchange as well as to the ways that information itself tra
 veled in British\, French\, Spanish\, and Swedish contexts.
END:VEVENT
END:VCALENDAR