BEGIN:VCALENDAR
VERSION:2.0
PRODID:-//ExpressionEngine Easy iCalendar plugin//NONSGML v1.1.1//EN
BEGIN:VEVENT
UID:event
LOCATION:The Heyman Center\, Second Floor Common Room
DTSTAMP:20210221T32900Z
DTSTART;TZID=America/New_York:20131022T181500
DTEND;TZID=America/New_York:
SUMMARY:Secret Reports on Nazi Germany: The Frankfurt School Contrib
 ution to the War Effort
DESCRIPTION:During the Second World War\, three prominent members of the 
 Frankfurt School--Franz Neumann\, Herbert Marcuse\, and Otto K
 irchheimer--worked as intelligence analysts for the Office o
 f Strategic Services\, the wartime forerunner of the CIA. Sec
 ret Reports on Nazi Germany brings together their most impor
 tant intelligence reports on Nazi Germany\, most of them publ
 ished for the first time.
END:VEVENT
END:VCALENDAR