BEGIN:VCALENDAR
VERSION:2.0
PRODID:-//ExpressionEngine Easy iCalendar plugin//NONSGML v1.1.1//EN
BEGIN:VEVENT
UID:event
LOCATION:The Heyman Center\, Second Floor Common Room
DTSTAMP:20210221T33600Z
DTSTART;TZID=America/New_York:20131016T180000
DTEND;TZID=America/New_York:
SUMMARY:Neuroscience and History: Neurophysiology between Experiment
  & Therapeutics
DESCRIPTION:The Neuroscience and History Working Group talks foster inte
 rdisciplinary conversation about the promises and challenges
  of contemporary neuroscience. We will explore the historica
 l conditions for the emergence of neuroscience as a discipli
 ne\, as well as the synergies and tensions between historical
  and neuroscientific modes of explanation. We welcome schola
 rs\, clinicians\, students\, and the interested public.
END:VEVENT
END:VCALENDAR