BEGIN:VCALENDAR
VERSION:2.0
PRODID:-//ExpressionEngine Easy iCalendar plugin//NONSGML v1.1.1//EN
BEGIN:VEVENT
UID:event
LOCATION:The Heyman Center\, Second Floor Common Room
DTSTAMP:20210221T33800Z
DTSTART;TZID=America/New_York:20131106T180000
DTEND;TZID=America/New_York:
SUMMARY:Neuroscience and History: A Brief History of Clock Genes
DESCRIPTION:A new reading and discussion group fostering interdisciplina
 ry conversation about the promises and challenges of contemp
 orary neuroscience. We will explore the historical condition
 s for the emergence of neuroscience as a discipline\, as well
  as the synergies and tensions between historical and neuros
 cientific modes of explanation. We welcome scholars\, clinici
 ans\, students\, and the interested public.
END:VEVENT
END:VCALENDAR