BEGIN:VCALENDAR
VERSION:2.0
PRODID:-//ExpressionEngine Easy iCalendar plugin//NONSGML v1.1.1//EN
BEGIN:VEVENT
UID:event
LOCATION:Low Memorial Library
DTSTAMP:20210221T33100Z
DTSTART;TZID=America/New_York:20131030T190000
DTEND;TZID=America/New_York:
SUMMARY:Palestine & The Public Intellectual: Honoring Edward Said
DESCRIPTION:The Center for Palestine Studies presents\n\nJudith Butler & C
 ornel West in conversation on the topic of "Palestine & The 
 Public Intellectual: Honoring Edward Said."\n\nThis event is n
 ow full but can be viewed on Livestream at this link.\n\nhttp:
 //www.columbia.edu/cu/palestine/programs/featuredevent.html#
 livestream
END:VEVENT
END:VCALENDAR