BEGIN:VCALENDAR
VERSION:2.0
PRODID:-//ExpressionEngine Easy iCalendar plugin//NONSGML v1.1.1//EN
BEGIN:VEVENT
UID:event
LOCATION:The Heyman Center\, Second Floor Common Room
DTSTAMP:20210221T33600Z
DTSTART;TZID=America/New_York:20131029T181500
DTEND;TZID=America/New_York:
SUMMARY:The Author of Mass Entertainment
DESCRIPTION:Critics of the auteur theory tend to represent it as an awkw
 ard latecomer to the movie scene\, an arriviste either willfu
 lly blind to\, or else hopelessly out of touch with\, the fund
 amentally collaborative nature of filmmaking.  But this vie
 w of auteur theory fails to account for its popularity from 
 the early decades of the twentieth century\, long before Truf
 faut formulated his version of it. During the twenties and t
 hirties\, for instance\, Charlie Chaplin was regularly hailed 
 as a one-man dynamo who "did everything" on his films.
END:VEVENT
END:VCALENDAR