BEGIN:VCALENDAR
VERSION:2.0
PRODID:-//ExpressionEngine Easy iCalendar plugin//NONSGML v1.1.1//EN
BEGIN:VEVENT
UID:event
LOCATION:\, Social Hall\, Union Theological Seminary
DTSTAMP:20210221T33200Z
DTSTART;TZID=America/New_York:20131107T181500
DTEND;TZID=America/New_York:
SUMMARY:Tom Pickard\, August Kleinzahler\, and Maureen McLane—an Eve
 ning of Poetry and Conversation
DESCRIPTION:Poets Tom Pickard\, August Kleinzahler\, and Maureen McLane wi
 ll read from new and published work in the continuation of t
 he Poets at the Heyman Center series.
END:VEVENT
END:VCALENDAR