BEGIN:VCALENDAR
VERSION:2.0
PRODID:-//ExpressionEngine Easy iCalendar plugin//NONSGML v1.1.1//EN
BEGIN:VEVENT
UID:event
LOCATION:The Heyman Center\, Second Floor Common Room
DTSTAMP:20210221T32900Z
DTSTART;TZID=America/New_York:20131108T160000
DTEND;TZID=America/New_York:
SUMMARY:Where is American Literature?
DESCRIPTION:Why do we continue to think of some books and authors as col
 lectively constituting American literature? Why do we hold o
 nto this idea that America has a literature and that certain
  authors--like William Faulkner or Nathaniel Hawthorne or Em
 ily Dickinson--represent this concept of American literarine
 ss more than others? This talk will explore the global\, ofte
 n multi-modal networks through which American literature gai
 ns meaning and definition.
END:VEVENT
END:VCALENDAR