BEGIN:VCALENDAR
VERSION:2.0
PRODID:-//ExpressionEngine Easy iCalendar plugin//NONSGML v1.1.1//EN
BEGIN:VEVENT
UID:event
LOCATION:\, 304 Hamilton Hall
DTSTAMP:20210221T33500Z
DTSTART;TZID=America/New_York:20131113T181500
DTEND;TZID=America/New_York:
SUMMARY:Cocaine’s Historical ‘Blow-back’ (1900-2010): The Long
  Road to Today’s Hemispheric Drug Crises
DESCRIPTION:This event has been moved to 304 Hamilton Hall\, Columbia Uni
 versity.\n\nThe drug war in the Americas faces two related cri
 ses: the dramatic wave of trafficker violence in Mexico and 
 the rising challenge to U.S. strategies from a number of key
  Latin American states. Using the long history of hemispheri
 c cocaine\, Gootenberg will show how the sharply unintended i
 mpacts of prior U.S. drug interventions have brought the ove
 rseas drug war to this crossroads\, and to the next phase of 
 cocaine’s globalizing history.
END:VEVENT
END:VCALENDAR