BEGIN:VCALENDAR
VERSION:2.0
PRODID:-//ExpressionEngine Easy iCalendar plugin//NONSGML v1.1.1//EN
BEGIN:VEVENT
UID:event
LOCATION:\, 513 Fayerweather Hall
DTSTAMP:20210221T33100Z
DTSTART;TZID=America/New_York:20131115T90000
DTEND;TZID=America/New_York:20131115T180000
SUMMARY:Mercantilism Through the Ages
DESCRIPTION:Mercantilism is a strange being with an awkward past. The co
 ncept ironically owes a far greater debt to its foremost cri
 tic\, Adam Smith\, than to any of its supposed advocates. And\,
  while most recent scholarship agrees that the Wealth of Nat
 ions painted a deceptively coherent portrait of 17th-century
  political economy and the commercial regulations these idea
 s supposedly engendered\, Smith’s interpretation of a “me
 rcantile system” has survived\, informing the way we concei
 ve both of early modern history as well as the nature of mod
 ern economy and politics.
END:VEVENT
END:VCALENDAR