BEGIN:VCALENDAR
VERSION:2.0
PRODID:-//ExpressionEngine Easy iCalendar plugin//NONSGML v1.1.1//EN
BEGIN:VEVENT
UID:event
LOCATION:\, Tishman Auditorium\, Alvin Johnson/J.M. Kaplan Hall\, The Ne
 w School for Social Research
DTSTAMP:20210221T33900Z
DTSTART;TZID=America/New_York:20131025T160000
DTEND;TZID=America/New_York:
SUMMARY:Hobsbawmâ€™s 20th Century: A Memorial Event
DESCRIPTION:Please join colleagues\, admirers\, and members of the Hobsbaw
 m family for the New York memorial event celebrating the lif
 e and work of world-renowned historian Eric Hobsbawm (1917â€
 “2012).\n\nThe afternoon of tributes and music will feature sp
 eakers Robin Blackburn\, Victoria de Grazia\, Barbara Fields\, 
 Eric Foner\, Oz Frankel\, Ira Katznelson\, Will Milberg\, Amarty
 a Sen\, and others.\n\nAn informal reception will follow.
END:VEVENT
END:VCALENDAR