BEGIN:VCALENDAR
VERSION:2.0
PRODID:-//ExpressionEngine Easy iCalendar plugin//NONSGML v1.1.1//EN
BEGIN:VEVENT
UID:event
LOCATION:International Affairs Building\, Lindsay Rogers Room 707
DTSTAMP:20210221T33100Z
DTSTART;TZID=America/New_York:20131210T174500
DTEND;TZID=America/New_York:
SUMMARY:Albert Hirschman and the Social Sciences
DESCRIPTION:Albert O. Hirschman\, who died on December 10\, 2012\, was one 
 of the most fascinating and versatile social scientists of t
 he twentieth century. After fleeing Germany as a young oppon
 ent to the Nazi regime\, he  moved across countries\, languag
 es\, and disciplinary boundaries. He was a pioneer of develop
 ment economics and other social sciences\, to which he contri
 buted with exemplary works on the analysis of the processes 
 and mechanisms of political\, economic\, and social change.
END:VEVENT
END:VCALENDAR