BEGIN:VCALENDAR
VERSION:2.0
PRODID:-//ExpressionEngine Easy iCalendar plugin//NONSGML v1.1.1//EN
BEGIN:VEVENT
UID:event
LOCATION:Room 411\, Fayerweather Hall
DTSTAMP:20210221T33300Z
DTSTART;TZID=America/New_York:20131211T181500
DTEND;TZID=America/New_York:
SUMMARY:Neuroscience and History: The Disappearance of Affect? Viole
 nce\, Affect\, and the Post-Traumatic
DESCRIPTION:Part of the Neuroscience and History Series:\n\nA new reading 
 and discussion group fostering interdisciplinary conversatio
 n about the promises and challenges of contemporary neurosci
 ence. We will explore the historical conditions for the emer
 gence of neuroscience as a discipline\, as well as the synerg
 ies and tensions between historical and neuroscientific mode
 s of explanation. We welcome scholars\, clinicians\, students\,
  and the interested public.\n\n 
END:VEVENT
END:VCALENDAR