BEGIN:VCALENDAR
VERSION:2.0
PRODID:-//ExpressionEngine Easy iCalendar plugin//NONSGML v1.1.1//EN
BEGIN:VEVENT
UID:event
LOCATION:\, The Italian Academy for Advanced Studies
DTSTAMP:20210221T32800Z
DTSTART;TZID=America/New_York:20131206T90000
DTEND;TZID=America/New_York:20131207T000000
SUMMARY:Liberty and Conflict: Machiavelli on Politics and Power
DESCRIPTION:The aim of this conference is to situate Machiavelli within 
 the history of political thought and examine the tragic view
  of politics and conflict in the The Prince. Discussion will
  focus on the relation between The Prince and the Discourse
 s and the foundation of good orders\, and the assessment of t
 he meaning of political liberty and power in the study of Ma
 chiavelli’s ideas.\n\nTo register for this conference please
  go to the Italian Academy Event Website.
END:VEVENT
END:VCALENDAR