BEGIN:VCALENDAR
VERSION:2.0
PRODID:-//ExpressionEngine Easy iCalendar plugin//NONSGML v1.1.1//EN
BEGIN:VEVENT
UID:event
LOCATION:Pulitzer Hall (formerly Journalism Hall)\, Room 301
DTSTAMP:20210221T33700Z
DTSTART;TZID=America/New_York:20140326T181500
DTEND;TZID=America/New_York:
SUMMARY:Drones and the Obama Administration
DESCRIPTION:Steve Coll\, Dean of the Columbia Journalism School and repor
 ter for the The New Yorker\, will deliver a talk on the Obama
  administration's use of drones. Coll will be in discussion 
 with Manan Ahmed\, Assistant Professor of History at Columbia
 \, and Philip G. Alston\, John Norton Pomeroy Professor of La
 w at New York University.\n\n 
END:VEVENT
END:VCALENDAR