BEGIN:VCALENDAR
VERSION:2.0
PRODID:-//ExpressionEngine Easy iCalendar plugin//NONSGML v1.1.1//EN
BEGIN:VEVENT
UID:event
LOCATION:501 Dodge Hall
DTSTAMP:20210221T33100Z
DTSTART;TZID=America/New_York:20140205T190000
DTEND;TZID=America/New_York:
SUMMARY:Creative Writing Lecture Series: Elif Batuman
DESCRIPTION:In conjunction with the Creative Writing Lecture Series at t
 he School of the Arts\, the Heyman Center for the Humanities 
 presents a discussion on the craft of writing with Elif Batu
 man.\n\nElif Batuman is a staff writer for The New Yorker and 
 the author of The Possessed: Adventures with Russian Books a
 nd the People Who Read Them\, which was a finalist for a 2010
  National Book Critic Circle’s Award.\n\n 
END:VEVENT
END:VCALENDAR