BEGIN:VCALENDAR
VERSION:2.0
PRODID:-//ExpressionEngine Easy iCalendar plugin//NONSGML v1.1.1//EN
BEGIN:VEVENT
UID:event
LOCATION:The Heyman Center\, Second Floor Common Room
DTSTAMP:20210221T33900Z
DTSTART;TZID=America/New_York:20140305T181500
DTEND;TZID=America/New_York:
SUMMARY:Neuroscience and History: Being Brains
DESCRIPTION:Are we our brains? Or\, more precisely: how and in what conte
 xts have the claims that “we are our brains” or that “
 the mind is what the brain does” become naturalized to the
  point they have by the first decade of the 21st century?\n\n
 
END:VEVENT
END:VCALENDAR