BEGIN:VCALENDAR
VERSION:2.0
PRODID:-//ExpressionEngine Easy iCalendar plugin//NONSGML v1.1.1//EN
BEGIN:VEVENT
UID:event
LOCATION:The Heyman Center\, Second Floor Common Room
DTSTAMP:20210221T33500Z
DTSTART;TZID=America/New_York:20131101T150000
DTEND;TZID=America/New_York:20131101T180000
SUMMARY:Indian Urbanity: Waste\, Value\, and Commons
DESCRIPTION:Professor Vinay Gidwani will discuss his current work on lab
 or processes and ecologies in agrarian and urban settings\, a
 s well as capitalist transformations of these environments. 
 The talk will relate to his book project centered in Delhi c
 alled The Afterlives of Waste\, which examines the spatial hi
 stories\, political uses\, and political economy of â€˜wasteâ€
 ™ as both commodity detritus and social excess.
END:VEVENT
END:VCALENDAR