BEGIN:VCALENDAR
VERSION:2.0
PRODID:-//ExpressionEngine Easy iCalendar plugin//NONSGML v1.1.1//EN
BEGIN:VEVENT
UID:event
LOCATION:The Heyman Center\, Second Floor Common Room
DTSTAMP:20210221T32900Z
DTSTART;TZID=America/New_York:20140303T181500
DTEND;TZID=America/New_York:
SUMMARY:“Understanding from Inside\,” or Critique and Admiration:
  Reading after Wittgenstein and Cavell
DESCRIPTION:Toril Moi\, James B. Duke Professor of Literature and Romance
  Studies and Professor of English\, Philosophy\, and Theater S
 tudies at Duke University\, will give the spring 2014 Lionel 
 Trilling Lecture.\n\n \n\n \n\n 
END:VEVENT
END:VCALENDAR