BEGIN:VCALENDAR
VERSION:2.0
PRODID:-//ExpressionEngine Easy iCalendar plugin//NONSGML v1.1.1//EN
BEGIN:VEVENT
UID:event
LOCATION:The Heyman Center\, Second Floor Common Room
DTSTAMP:20210221T33400Z
DTSTART;TZID=America/New_York:20140306T90000
DTEND;TZID=America/New_York:20140307T000000
SUMMARY:The History of Poverty in Africa: A Central Question?
DESCRIPTION:In the popular mind\, Africa exemplifies poverty. Media cover
 age focuses on destitution. Recent focus on a growing elite 
 serves to emphasise the abject condition of the majority. Th
 is discourse depicts African poverty as timeless or as gripp
 ed in a worsening spiral. Africanist historians have long ca
 lled for the historical study of the African poor with the a
 rgument that the most ‘useful’ or ‘usable’ aspect of
  African history could be to find solutions to poverty in Af
 rica by developing historical understanding of the phenomeno
 n.  
END:VEVENT
END:VCALENDAR