BEGIN:VCALENDAR
VERSION:2.0
PRODID:-//ExpressionEngine Easy iCalendar plugin//NONSGML v1.1.1//EN
BEGIN:VEVENT
UID:event
LOCATION:Sulzberger Parlor\, Barnard Hall
DTSTAMP:20210221T32900Z
DTSTART;TZID=America/New_York:20140313T181500
DTEND;TZID=America/New_York:
SUMMARY:Texts\, Risks\, and Revolution: Holding Up a Mirror to the Ara
 b World
DESCRIPTION:Internationally acclaimed writer and director Sulayman Al Ba
 ssam in conversation with his collaborator Georgina Van Weli
 e on making theatre across the cultural divide. Political by
  definition\, performed in both English and Arabic with actor
 s and a creative team from across the Arab world and the Wes
 t\, their projects have revisited Western texts from an Arab 
 perspective and challenged Western perceptions of the Arab w
 orld. \n\nThe Petrol Station will play at The Kennedy Center 
 in the 2014-2015 season. 
END:VEVENT
END:VCALENDAR