BEGIN:VCALENDAR
VERSION:2.0
PRODID:-//ExpressionEngine Easy iCalendar plugin//NONSGML v1.1.1//EN
BEGIN:VEVENT
UID:event
LOCATION:The Heyman Center\, Second Floor Common Room
DTSTAMP:20210221T33100Z
DTSTART;TZID=America/New_York:20140327T163000
DTEND;TZID=America/New_York:
SUMMARY:Botanically Queer
DESCRIPTION:Plants have been profoundly queer players in the modern proj
 ect of describing "life" for ethical and political considera
 tion. From their taxonomic destabilizations of colonial orde
 r in the eighteenth century to their current questionings co
 ncerning agency in recent posthumanist discourses\, plants de
 mand that we think about living\, being\, and becoming in ways
  that interrupt anthropocentric and heteronormative figuring
 s of ethics\, agency\, futurity\, and life in general.
END:VEVENT
END:VCALENDAR