BEGIN:VCALENDAR
VERSION:2.0
PRODID:-//ExpressionEngine Easy iCalendar plugin//NONSGML v1.1.1//EN
BEGIN:VEVENT
UID:event
LOCATION:Room 411\, Fayerweather Hall
DTSTAMP:20210221T33000Z
DTSTART;TZID=America/New_York:20131119T181500
DTEND;TZID=America/New_York:
SUMMARY:All the Selves We Have Been
DESCRIPTION:The Heyman Center presents a book release for Lynne Segal's 
 newest title\, Out of Time: The Pleasures and Perils of Agein
 g.\n\nIn Out of Time: The Pleasures and the Perils of Ageing\, 
 leading thinker Lynne Segal examines her life and surveys th
 e work and lives of other writers and artists to explore the
  pleasures and perils of growing old.  With great depth and
  humor\, Segal proposes a much needed re-imagining of old age
  that does not fear the process of aging and challenges the 
 taboos that constrain the lives of the aged.
END:VEVENT
END:VCALENDAR