BEGIN:VCALENDAR
VERSION:2.0
PRODID:-//ExpressionEngine Easy iCalendar plugin//NONSGML v1.1.1//EN
BEGIN:VEVENT
UID:event
LOCATION:The Heyman Center\, Second Floor Common Room
DTSTAMP:20210221T32800Z
DTSTART;TZID=America/New_York:20140331T181500
DTEND;TZID=America/New_York:
SUMMARY:The Tyranny of Experts: An Intellectual History of Autocrati
 c Approaches to Economic Development
DESCRIPTION:William Easterly\, Professor of Economics at New York Univers
 ity and Co-director of the NYU Development Research Institut
 e\, will lead a discussion on the idea of development as an a
 uthoritarian concept.\n\nThe commentator for the talk will be 
 Gregory Mann\, Associate Professor of History at Columbia. Mi
 chele Alacevich\, Associate Director of Research Activities\, 
 Heyman Center for the Humanities and Diplomatische Akademie 
 Wien\, will chair the talk.
END:VEVENT
END:VCALENDAR