BEGIN:VCALENDAR
VERSION:2.0
PRODID:-//ExpressionEngine Easy iCalendar plugin//NONSGML v1.1.1//EN
BEGIN:VEVENT
UID:event
LOCATION:East Gallery\, Buell Hall
DTSTAMP:20210221T32700Z
DTSTART;TZID=America/New_York:20140127T181500
DTEND;TZID=America/New_York:
SUMMARY:Parenting\, Narrative\, and Our Genetic Futures
DESCRIPTION:As part of the Disciplines Series: Evaluation\, Value\, and Ev
 idence\, authors Alison Piepmeier\, George Estreich\, and Rache
 l Adams take up many of the questions raised in our November
  2013 event on "Genes\, Children\, and Ethics" (featuring Mich
 ael Berube\, Faye Ginsberg\, and Rayna Rapp) in their discussi
 on of "Parenting\, Narrative\, and Our Genetic Futures." Eliza
 beth Emens chairs.\n\n 
END:VEVENT
END:VCALENDAR