BEGIN:VCALENDAR
VERSION:2.0
PRODID:-//ExpressionEngine Easy iCalendar plugin//NONSGML v1.1.1//EN
BEGIN:VEVENT
UID:event
LOCATION:The Schapiro Center\, Davis Auditorium
DTSTAMP:20210221T33300Z
DTSTART;TZID=America/New_York:20140409T190000
DTEND;TZID=America/New_York:
SUMMARY:Creative Writing Lecture Series: Jeffrey Eugenides
DESCRIPTION:Author Jeffrey Eugenides will discuss the craft of writing. 
 The event is part of the Heyman Center for the Humanities Wr
 iting Lives Series and the Columbia School of the Arts Creat
 ive Writing Lecture series.\n\nJeffrey Eugenides is the author
  of the Pulitzer Prize-winning novel Middlesex\, and the grea
 tly acclaimed novel The Virgin Suicides. His most recent nov
 el\, The Marriage Plot\, won prizes for the best foreign novel
  published in France.\n\nNote: Due to the large crowd expected
  at this event\, please arrive early. We cannot exceed the ro
 om capacity for safety reasons. Thank you for your understan
 ding.\n\n 
END:VEVENT
END:VCALENDAR