BEGIN:VCALENDAR
VERSION:2.0
PRODID:-//ExpressionEngine Easy iCalendar plugin//NONSGML v1.1.1//EN
BEGIN:VEVENT
UID:event
LOCATION:The Schapiro Center\, Davis Auditorium
DTSTAMP:20210221T33900Z
DTSTART;TZID=America/New_York:20131119T183000
DTEND;TZID=America/New_York:
SUMMARY:Conversations on Memory: Literature\, Neuroscience\, History
DESCRIPTION:The Committee on Global Thought presents Orhan Pamuk\, Joseph
  LeDoux\, and Partha Chatterjee in an interdisciplinary conve
 rsation bringing perspectives from literature\, neuroscience\,
  and history to explore the ways in which we understand\, thi
 nk about\, and study the past.
END:VEVENT
END:VCALENDAR