BEGIN:VCALENDAR
VERSION:2.0
PRODID:-//ExpressionEngine Easy iCalendar plugin//NONSGML v1.1.1//EN
BEGIN:VEVENT
UID:event
LOCATION:The Italian Academy for Advanced Studies
DTSTAMP:20210221T33000Z
DTSTART;TZID=America/New_York:20131112T181500
DTEND;TZID=America/New_York:
SUMMARY:Lecture & Reception Presenting Akeel Bilgrami the First Sidn
 ey Morgenbesser Professor of Philosophy
DESCRIPTION:You are cordially invited to a lecture and reception present
 ing Akeel Bilgrami as the first Sidney Morgenbesser Professo
 r of Philosophy. Professor Bilgrami will speak on the topic 
 of Gandhi and (Marx).
END:VEVENT
END:VCALENDAR