BEGIN:VCALENDAR
VERSION:2.0
PRODID:-//ExpressionEngine Easy iCalendar plugin//NONSGML v1.1.1//EN
BEGIN:VEVENT
UID:event
LOCATION:Barnard Hall\, Sulzberger Parlor (Third Floor)
DTSTAMP:20210221T33000Z
DTSTART;TZID=America/New_York:20131121T190000
DTEND;TZID=America/New_York:
SUMMARY:Poems Now and Renaissance Traditions: Celebrating the Career
  of Anne Lake Prescott
DESCRIPTION:Poets Kimberly Johnson and Carl Phillips will read as part o
 f the Barnard College Women Poets at Barnard series. The ev
 ening will also celebrate the long career of Anne Lake Presc
 ott\, Emerita Helen Goodhart Altschul Professor of English a
 t Barnard College.
END:VEVENT
END:VCALENDAR