BEGIN:VCALENDAR
VERSION:2.0
PRODID:-//ExpressionEngine Easy iCalendar plugin//NONSGML v1.1.1//EN
BEGIN:VEVENT
UID:event
LOCATION:The Heyman Center\, Second Floor Common Room
DTSTAMP:20210221T33700Z
DTSTART;TZID=America/New_York:20140411T90000
DTEND;TZID=America/New_York:20140411T170000
SUMMARY:Global 1943: Political Imagination and Blueprints for the Fu
 ture
DESCRIPTION:1943 stands out as a year of transitions. Developments\, rang
 ing from Italy’s capitulation to the achievements of natio
 nal liberation movements\, illustrated the reverse of the tid
 e and the victorious prospects of the United Nations\; questi
 ons of social\, economic\, and political reconstruction produc
 ed novel forms of international cooperation\; diverse “blue
 prints for tomorrow” reflected aspirations and concerns\, w
 hile their implementation generated tensions that undermined
  the cohesion of antifascist unity. 
END:VEVENT
END:VCALENDAR