BEGIN:VCALENDAR
VERSION:2.0
PRODID:-//ExpressionEngine Easy iCalendar plugin//NONSGML v1.1.1//EN
BEGIN:VEVENT
UID:event
LOCATION:The Heyman Center\, Second Floor Common Room
DTSTAMP:20210221T33800Z
DTSTART;TZID=America/New_York:20140416T181500
DTEND;TZID=America/New_York:
SUMMARY:Hostile Charity: Somali Refugees and Risk in a New Security 
 Age
DESCRIPTION:Refugees from states devastated by civil war and terrorism p
 ose a challenge to the international community\, which create
 s 'humanitarian' practices to contain and monitor refugees i
 n order to deliver charity while reducing the risks refugees
  are perceived as posing to the international order and to i
 ndividual nation-states. \n\n 
END:VEVENT
END:VCALENDAR